Package: deconvR Version: 1.15.1 Command: F:\biocbuild\bbs-3.22-bioc\R\bin\R.exe CMD check --no-multiarch --install=check:deconvR.install-out.txt --library=F:\biocbuild\bbs-3.22-bioc\R\library --no-vignettes --timings deconvR_1.15.1.tar.gz StartedAt: 2025-08-15 02:20:59 -0400 (Fri, 15 Aug 2025) EndedAt: 2025-08-15 02:38:59 -0400 (Fri, 15 Aug 2025) EllapsedTime: 1079.9 seconds RetCode: 0 Status: OK CheckDir: deconvR.Rcheck Warnings: 0