Package: deconvR Version: 1.15.1 Command: /home/biocbuild/bbs-3.22-bioc/R/bin/R CMD INSTALL deconvR StartedAt: 2025-09-30 15:46:05 -0400 (Tue, 30 Sep 2025) EndedAt: 2025-09-30 15:46:53 -0400 (Tue, 30 Sep 2025) EllapsedTime: 48.3 seconds RetCode: 0 Status: OK