Package: deconvR Version: 1.15.1 Command: /Library/Frameworks/R.framework/Resources/bin/R CMD check --install=check:deconvR.install-out.txt --library=/Library/Frameworks/R.framework/Resources/library --no-vignettes --timings deconvR_1.15.1.tar.gz StartedAt: 2025-10-03 19:04:48 -0400 (Fri, 03 Oct 2025) EndedAt: 2025-10-03 19:11:06 -0400 (Fri, 03 Oct 2025) EllapsedTime: 378.4 seconds RetCode: 0 Status: OK CheckDir: deconvR.Rcheck Warnings: 0