Package: deconvR Version: 1.15.1 Command: rm -rf deconvR.buildbin-libdir && mkdir deconvR.buildbin-libdir && /Users/biocbuild/BBS/utils/build-universal.sh deconvR_1.15.1.tar.gz /Library/Frameworks/R.framework/Resources/bin/R deconvR.buildbin-libdir StartedAt: 2025-10-03 22:36:36 -0400 (Fri, 03 Oct 2025) EndedAt: 2025-10-03 22:36:58 -0400 (Fri, 03 Oct 2025) EllapsedTime: 22.5 seconds RetCode: 0 Status: OK PackageFile: deconvR_1.15.1.tgz PackageFileSize: 3.817 MiB