Package: deconvR Version: 1.16.0 Command: /Library/Frameworks/R.framework/Resources/bin/R CMD INSTALL deconvR StartedAt: 2025-11-17 18:10:26 -0500 (Mon, 17 Nov 2025) EndedAt: 2025-11-17 18:10:47 -0500 (Mon, 17 Nov 2025) EllapsedTime: 20.6 seconds RetCode: 0 Status: OK