Package: deconvR Version: 1.16.0 Command: /Library/Frameworks/R.framework/Resources/bin/R CMD check --install=check:deconvR.install-out.txt --library=/Library/Frameworks/R.framework/Resources/library --no-vignettes --timings deconvR_1.16.0.tar.gz StartedAt: 2025-11-18 05:15:06 -0500 (Tue, 18 Nov 2025) EndedAt: 2025-11-18 05:22:16 -0500 (Tue, 18 Nov 2025) EllapsedTime: 429.8 seconds RetCode: 0 Status: OK CheckDir: deconvR.Rcheck Warnings: 0