Package: deconvR Version: 1.16.0 Command: /Library/Frameworks/R.framework/Resources/bin/R CMD build --keep-empty-dirs --no-resave-data deconvR StartedAt: 2025-11-20 23:31:01 -0500 (Thu, 20 Nov 2025) EndedAt: 2025-11-20 23:33:36 -0500 (Thu, 20 Nov 2025) EllapsedTime: 154.4 seconds RetCode: 0 Status: OK PackageFile: deconvR_1.16.0.tar.gz PackageFileSize: 3.794 MiB