Package: deconvR Version: 1.15.1 Maintainer: Irem B. Gündüz MaintainerEmail: irembgunduz at gmail.com git_url: https://git.bioconductor.org/packages/deconvR git_branch: devel git_last_commit: 120759a git_last_commit_date: 2025-07-28 14:47:23 -0400 (Mon, 28 Jul 2025)