Package: decontam Version: 1.29.0 Command: F:\biocbuild\bbs-3.22-bioc\R\bin\R.exe CMD check --no-multiarch --install=check:decontam.install-out.txt --library=F:\biocbuild\bbs-3.22-bioc\R\library --no-vignettes --timings decontam_1.29.0.tar.gz StartedAt: 2025-08-15 02:20:22 -0400 (Fri, 15 Aug 2025) EndedAt: 2025-08-15 02:21:23 -0400 (Fri, 15 Aug 2025) EllapsedTime: 61.1 seconds RetCode: 0 Status: OK CheckDir: decontam.Rcheck Warnings: 0