Package: decompTumor2Sig Version: 2.25.1 Command: F:\biocbuild\bbs-3.22-bioc\R\bin\R.exe CMD check --no-multiarch --install=check:decompTumor2Sig.install-out.txt --library=F:\biocbuild\bbs-3.22-bioc\R\library --no-vignettes --timings decompTumor2Sig_2.25.1.tar.gz StartedAt: 2025-08-15 02:20:03 -0400 (Fri, 15 Aug 2025) EndedAt: 2025-08-15 02:28:03 -0400 (Fri, 15 Aug 2025) EllapsedTime: 480.2 seconds RetCode: 0 Status: OK CheckDir: decompTumor2Sig.Rcheck Warnings: 0