Package: decompTumor2Sig Version: 2.25.1 Command: /home/biocbuild/bbs-3.22-bioc/R/bin/R CMD INSTALL decompTumor2Sig StartedAt: 2025-10-20 15:58:13 -0400 (Mon, 20 Oct 2025) EndedAt: 2025-10-20 15:58:56 -0400 (Mon, 20 Oct 2025) EllapsedTime: 42.7 seconds RetCode: 0 Status: OK