Package: decompTumor2Sig Version: 2.25.1 Command: /home/biocbuild/bbs-3.22-bioc/R/bin/R CMD check --install=check:decompTumor2Sig.install-out.txt --library=/home/biocbuild/bbs-3.22-bioc/R/site-library --timings decompTumor2Sig_2.25.1.tar.gz StartedAt: 2025-10-20 22:52:00 -0400 (Mon, 20 Oct 2025) EndedAt: 2025-10-20 23:02:16 -0400 (Mon, 20 Oct 2025) EllapsedTime: 616.6 seconds RetCode: 0 Status: OK CheckDir: decompTumor2Sig.Rcheck Warnings: 0