Package: decompTumor2Sig Version: 2.25.1 Command: /home/biocbuild/bbs-3.22-bioc/R/bin/R CMD build --keep-empty-dirs --no-resave-data --md5 decompTumor2Sig StartedAt: 2025-10-20 17:08:57 -0400 (Mon, 20 Oct 2025) EndedAt: 2025-10-20 17:13:36 -0400 (Mon, 20 Oct 2025) EllapsedTime: 279.3 seconds RetCode: 0 Status: OK PackageFile: decompTumor2Sig_2.25.1.tar.gz PackageFileSize: 2.755 MiB