Package: decompTumor2Sig Version: 2.25.1 Command: /Library/Frameworks/R.framework/Resources/bin/R CMD INSTALL decompTumor2Sig StartedAt: 2025-10-19 15:52:28 -0400 (Sun, 19 Oct 2025) EndedAt: 2025-10-19 15:53:27 -0400 (Sun, 19 Oct 2025) EllapsedTime: 59.2 seconds RetCode: 0 Status: OK