Package: decompTumor2Sig Version: 2.25.1 Command: /Library/Frameworks/R.framework/Resources/bin/R CMD INSTALL decompTumor2Sig StartedAt: 2025-10-21 15:32:18 -0400 (Tue, 21 Oct 2025) EndedAt: 2025-10-21 15:32:36 -0400 (Tue, 21 Oct 2025) EllapsedTime: 17.4 seconds RetCode: 0 Status: OK