Package: debrowser Version: 1.37.0 Command: /Library/Frameworks/R.framework/Resources/bin/R CMD INSTALL debrowser StartedAt: 2025-10-02 15:25:50 -0400 (Thu, 02 Oct 2025) EndedAt: 2025-10-02 15:26:09 -0400 (Thu, 02 Oct 2025) EllapsedTime: 18.9 seconds RetCode: 0 Status: OK