Package: debrowser Version: 1.37.0 Command: /Library/Frameworks/R.framework/Resources/bin/R CMD build --keep-empty-dirs --no-resave-data debrowser StartedAt: 2025-10-02 16:06:32 -0400 (Thu, 02 Oct 2025) EndedAt: 2025-10-02 16:07:09 -0400 (Thu, 02 Oct 2025) EllapsedTime: 37.4 seconds RetCode: 0 Status: OK PackageFile: debrowser_1.37.0.tar.gz PackageFileSize: 18.23 MiB