Package: ddPCRclust Version: 1.29.0 Command: /home/biocbuild/R/R/bin/R CMD INSTALL ddPCRclust StartedAt: 2025-10-16 21:26:04 -0000 (Thu, 16 Oct 2025) EndedAt: 2025-10-16 21:26:21 -0000 (Thu, 16 Oct 2025) EllapsedTime: 16.6 seconds RetCode: 0 Status: OK