Package: ddPCRclust Version: 1.29.0 Command: /home/biocbuild/R/R/bin/R CMD check --install=check:ddPCRclust.install-out.txt --library=/home/biocbuild/R/R/site-library --no-vignettes --timings ddPCRclust_1.29.0.tar.gz StartedAt: 2025-10-17 07:56:49 -0000 (Fri, 17 Oct 2025) EndedAt: 2025-10-17 08:00:39 -0000 (Fri, 17 Oct 2025) EllapsedTime: 229.1 seconds RetCode: 0 Status: OK CheckDir: ddPCRclust.Rcheck Warnings: 0