Package: ddPCRclust Version: 1.29.0 Command: /home/biocbuild/R/R/bin/R CMD build --keep-empty-dirs --no-resave-data ddPCRclust StartedAt: 2025-10-17 00:28:58 -0000 (Fri, 17 Oct 2025) EndedAt: 2025-10-17 00:29:40 -0000 (Fri, 17 Oct 2025) EllapsedTime: 42.0 seconds RetCode: 0 Status: OK PackageFile: ddPCRclust_1.29.0.tar.gz PackageFileSize: 1.182 MiB