Package: ddPCRclust Version: 1.29.0 Command: /Library/Frameworks/R.framework/Resources/bin/R CMD INSTALL ddPCRclust StartedAt: 2025-10-19 15:18:04 -0400 (Sun, 19 Oct 2025) EndedAt: 2025-10-19 15:18:20 -0400 (Sun, 19 Oct 2025) EllapsedTime: 16.0 seconds RetCode: 0 Status: OK