Package: ddPCRclust Version: 1.29.0 Command: /Library/Frameworks/R.framework/Resources/bin/R CMD build --keep-empty-dirs --no-resave-data ddPCRclust StartedAt: 2025-10-19 16:47:28 -0400 (Sun, 19 Oct 2025) EndedAt: 2025-10-19 16:48:35 -0400 (Sun, 19 Oct 2025) EllapsedTime: 66.7 seconds RetCode: 0 Status: OK PackageFile: ddPCRclust_1.29.0.tar.gz PackageFileSize: 1.192 MiB