Package: ddPCRclust Version: 1.29.0 Command: rm -rf ddPCRclust.buildbin-libdir && mkdir ddPCRclust.buildbin-libdir && /Users/biocbuild/BBS/utils/build-universal.sh ddPCRclust_1.29.0.tar.gz /Library/Frameworks/R.framework/Resources/bin/R ddPCRclust.buildbin-libdir StartedAt: 2025-10-20 03:04:58 -0400 (Mon, 20 Oct 2025) EndedAt: 2025-10-20 03:05:20 -0400 (Mon, 20 Oct 2025) EllapsedTime: 22.2 seconds RetCode: 0 Status: OK PackageFile: ddPCRclust_1.29.0.tgz PackageFileSize: 1.343 MiB