Package: ddPCRclust Version: 1.29.0 Command: /Library/Frameworks/R.framework/Resources/bin/R CMD check --install=check:ddPCRclust.install-out.txt --library=/Library/Frameworks/R.framework/Resources/library --no-vignettes --timings ddPCRclust_1.29.0.tar.gz StartedAt: 2025-10-20 19:17:24 -0400 (Mon, 20 Oct 2025) EndedAt: 2025-10-20 19:18:20 -0400 (Mon, 20 Oct 2025) EllapsedTime: 56.7 seconds RetCode: 0 Status: OK CheckDir: ddPCRclust.Rcheck Warnings: 0