Package: ddPCRclust Version: 1.29.0 Command: /Library/Frameworks/R.framework/Resources/bin/R CMD build --keep-empty-dirs --no-resave-data ddPCRclust StartedAt: 2025-10-20 16:07:30 -0400 (Mon, 20 Oct 2025) EndedAt: 2025-10-20 16:07:45 -0400 (Mon, 20 Oct 2025) EllapsedTime: 15.2 seconds RetCode: 0 Status: OK PackageFile: ddPCRclust_1.29.0.tar.gz PackageFileSize: 1.192 MiB