Package: ddCt Version: 1.66.0 Command: rm -rf ddCt.buildbin-libdir && mkdir ddCt.buildbin-libdir && /Users/biocbuild/BBS/utils/build-universal.sh ddCt_1.66.0.tar.gz /Library/Frameworks/R.framework/Resources/bin/R ddCt.buildbin-libdir StartedAt: 2025-11-04 01:36:03 -0500 (Tue, 04 Nov 2025) EndedAt: 2025-11-04 01:36:14 -0500 (Tue, 04 Nov 2025) EllapsedTime: 10.5 seconds RetCode: 0 Status: OK PackageFile: ddCt_1.66.0.tgz PackageFileSize: 1.008 MiB