Package: dcanr Version: 1.25.0 Command: /home/biocbuild/R/R/bin/R CMD check --install=check:dcanr.install-out.txt --library=/home/biocbuild/R/R/site-library --no-vignettes --timings dcanr_1.25.0.tar.gz StartedAt: 2025-10-03 06:19:37 -0000 (Fri, 03 Oct 2025) EndedAt: 2025-10-03 06:20:45 -0000 (Fri, 03 Oct 2025) EllapsedTime: 68.1 seconds RetCode: 0 Status: OK CheckDir: dcanr.Rcheck Warnings: 0