Package: dar Version: 1.5.0 Command: F:\biocbuild\bbs-3.22-bioc\R\bin\R.exe CMD check --no-multiarch --install=check:dar.install-out.txt --library=F:\biocbuild\bbs-3.22-bioc\R\library --no-vignettes --timings dar_1.5.0.tar.gz StartedAt: 2025-08-15 02:16:52 -0400 (Fri, 15 Aug 2025) EndedAt: 2025-08-15 02:30:50 -0400 (Fri, 15 Aug 2025) EllapsedTime: 838.1 seconds RetCode: 0 Status: OK CheckDir: dar.Rcheck Warnings: 0