Package: dandelionR Version: 1.1.5 Command: /home/biocbuild/R/R/bin/R CMD check --install=check:dandelionR.install-out.txt --library=/home/biocbuild/R/R/site-library --no-vignettes --timings dandelionR_1.1.5.tar.gz StartedAt: 2025-10-21 07:08:55 -0000 (Tue, 21 Oct 2025) EndedAt: 2025-10-21 07:15:25 -0000 (Tue, 21 Oct 2025) EllapsedTime: 390.2 seconds RetCode: 0 Status: OK CheckDir: dandelionR.Rcheck Warnings: 0