Package: dandelionR Version: 1.1.5 Command: /home/biocbuild/R/R/bin/R CMD build --keep-empty-dirs --no-resave-data dandelionR StartedAt: 2025-10-20 23:09:46 -0000 (Mon, 20 Oct 2025) EndedAt: 2025-10-20 23:13:32 -0000 (Mon, 20 Oct 2025) EllapsedTime: 226.1 seconds RetCode: 0 Status: OK PackageFile: dandelionR_1.1.5.tar.gz PackageFileSize: 7.299 MiB