Package: dandelionR Version: 1.1.5 Command: /Library/Frameworks/R.framework/Resources/bin/R CMD check --install=check:dandelionR.install-out.txt --library=/Library/Frameworks/R.framework/Resources/library --no-vignettes --timings dandelionR_1.1.5.tar.gz StartedAt: 2025-10-19 21:29:56 -0400 (Sun, 19 Oct 2025) EndedAt: 2025-10-19 21:36:50 -0400 (Sun, 19 Oct 2025) EllapsedTime: 414.1 seconds RetCode: 0 Status: OK CheckDir: dandelionR.Rcheck Warnings: 0