Package: dandelionR Version: 1.1.5 Command: /Library/Frameworks/R.framework/Resources/bin/R CMD INSTALL dandelionR StartedAt: 2025-10-20 15:29:28 -0400 (Mon, 20 Oct 2025) EndedAt: 2025-10-20 15:29:45 -0400 (Mon, 20 Oct 2025) EllapsedTime: 17.7 seconds RetCode: 0 Status: OK