Package: dandelionR Version: 1.1.5 Command: /Library/Frameworks/R.framework/Resources/bin/R CMD build --keep-empty-dirs --no-resave-data dandelionR StartedAt: 2025-10-20 16:07:09 -0400 (Mon, 20 Oct 2025) EndedAt: 2025-10-20 16:08:26 -0400 (Mon, 20 Oct 2025) EllapsedTime: 77.9 seconds RetCode: 0 Status: OK PackageFile: dandelionR_1.1.5.tar.gz PackageFileSize: 12.46 MiB