Package: dagLogo Version: 1.47.0 Command: /home/biocbuild/R/R/bin/R CMD INSTALL dagLogo StartedAt: 2025-10-16 22:18:01 -0000 (Thu, 16 Oct 2025) EndedAt: 2025-10-16 22:18:59 -0000 (Thu, 16 Oct 2025) EllapsedTime: 58.0 seconds RetCode: 0 Status: OK