Package: dagLogo Version: 1.47.0 Command: rm -rf dagLogo.buildbin-libdir && mkdir dagLogo.buildbin-libdir && F:\biocbuild\bbs-3.22-bioc\R\bin\R.exe CMD INSTALL --build --library=dagLogo.buildbin-libdir dagLogo_1.47.0.tar.gz StartedAt: 2025-08-15 10:05:14 -0400 (Fri, 15 Aug 2025) EndedAt: 2025-08-15 10:06:30 -0400 (Fri, 15 Aug 2025) EllapsedTime: 76.6 seconds RetCode: 0 Status: OK PackageFile: dagLogo_1.47.0.zip PackageFileSize: 2.876 MiB