Package: dagLogo Version: 1.47.0 Command: /Library/Frameworks/R.framework/Resources/bin/R CMD INSTALL dagLogo StartedAt: 2025-10-17 15:45:25 -0400 (Fri, 17 Oct 2025) EndedAt: 2025-10-17 15:46:26 -0400 (Fri, 17 Oct 2025) EllapsedTime: 61.1 seconds RetCode: 0 Status: OK