Package: dagLogo Version: 1.47.0 Command: /Library/Frameworks/R.framework/Resources/bin/R CMD build --keep-empty-dirs --no-resave-data dagLogo StartedAt: 2025-10-19 16:06:30 -0400 (Sun, 19 Oct 2025) EndedAt: 2025-10-19 16:07:13 -0400 (Sun, 19 Oct 2025) EllapsedTime: 43.5 seconds RetCode: 0 Status: OK PackageFile: dagLogo_1.47.0.tar.gz PackageFileSize: 3.112 MiB