Package: dagLogo Version: 1.47.0 Command: rm -rf dagLogo.buildbin-libdir && mkdir dagLogo.buildbin-libdir && /Users/biocbuild/BBS/utils/build-universal.sh dagLogo_1.47.0.tar.gz /Library/Frameworks/R.framework/Resources/bin/R dagLogo.buildbin-libdir StartedAt: 2025-10-17 23:05:08 -0400 (Fri, 17 Oct 2025) EndedAt: 2025-10-17 23:05:29 -0400 (Fri, 17 Oct 2025) EllapsedTime: 20.5 seconds RetCode: 0 Status: OK PackageFile: dagLogo_1.47.0.tgz PackageFileSize: 3.491 MiB