Package: dada2 Version: 1.38.0 Command: /home/biocbuild/bbs-3.22-bioc/R/bin/R CMD INSTALL dada2 StartedAt: 2025-11-05 15:59:07 -0500 (Wed, 05 Nov 2025) EndedAt: 2025-11-05 16:00:32 -0500 (Wed, 05 Nov 2025) EllapsedTime: 85.0 seconds RetCode: 0 Status: OK