Package: dada2 Version: 1.38.0 Command: /home/biocbuild/bbs-3.22-bioc/R/bin/R CMD check --install=check:dada2.install-out.txt --library=/home/biocbuild/bbs-3.22-bioc/R/site-library --timings dada2_1.38.0.tar.gz StartedAt: 2025-11-06 22:38:14 -0500 (Thu, 06 Nov 2025) EndedAt: 2025-11-06 22:43:26 -0500 (Thu, 06 Nov 2025) EllapsedTime: 312.3 seconds RetCode: 0 Status: WARNINGS CheckDir: dada2.Rcheck Warnings: 1