Package: dada2 Version: 1.38.0 Command: /home/biocbuild/bbs-3.22-bioc/R/bin/R CMD build --keep-empty-dirs --no-resave-data --md5 dada2 StartedAt: 2025-11-05 17:18:04 -0500 (Wed, 05 Nov 2025) EndedAt: 2025-11-05 17:19:50 -0500 (Wed, 05 Nov 2025) EllapsedTime: 106.1 seconds RetCode: 0 Status: OK PackageFile: dada2_1.38.0.tar.gz PackageFileSize: 2.755 MiB