Package: dada2 Version: 1.38.0 Maintainer: Benjamin Callahan MaintainerEmail: benjamin.j.callahan at gmail.com git_url: https://git.bioconductor.org/packages/dada2 git_branch: RELEASE_3_22 git_last_commit: 60234dd git_last_commit_date: 2025-10-29 10:30:17 -0400 (Wed, 29 Oct 2025)