Package: daMA Version: 1.81.0 Command: F:\biocbuild\bbs-3.22-bioc\R\bin\R.exe CMD check --no-multiarch --install=check:daMA.install-out.txt --library=F:\biocbuild\bbs-3.22-bioc\R\library --no-vignettes --timings daMA_1.81.0.tar.gz StartedAt: 2025-08-15 02:15:13 -0400 (Fri, 15 Aug 2025) EndedAt: 2025-08-15 02:15:48 -0400 (Fri, 15 Aug 2025) EllapsedTime: 34.8 seconds RetCode: 0 Status: OK CheckDir: daMA.Rcheck Warnings: 0