Package: dStruct Version: 1.15.0 Command: /home/biocbuild/R/R/bin/R CMD build --keep-empty-dirs --no-resave-data dStruct StartedAt: 2025-10-20 23:30:15 -0000 (Mon, 20 Oct 2025) EndedAt: 2025-10-20 23:30:40 -0000 (Mon, 20 Oct 2025) EllapsedTime: 25.0 seconds RetCode: 0 Status: OK PackageFile: dStruct_1.15.0.tar.gz PackageFileSize: 623.1 KiB