Package: dStruct Version: 1.15.0 Command: /Library/Frameworks/R.framework/Resources/bin/R CMD INSTALL dStruct StartedAt: 2025-10-23 15:16:40 -0400 (Thu, 23 Oct 2025) EndedAt: 2025-10-23 15:16:55 -0400 (Thu, 23 Oct 2025) EllapsedTime: 15.2 seconds RetCode: 0 Status: OK