Package: dStruct Version: 1.15.0 Command: /Library/Frameworks/R.framework/Resources/bin/R CMD check --install=check:dStruct.install-out.txt --library=/Library/Frameworks/R.framework/Resources/library --no-vignettes --timings dStruct_1.15.0.tar.gz StartedAt: 2025-10-24 20:57:19 -0400 (Fri, 24 Oct 2025) EndedAt: 2025-10-24 20:59:01 -0400 (Fri, 24 Oct 2025) EllapsedTime: 102.3 seconds RetCode: 0 Status: OK CheckDir: dStruct.Rcheck Warnings: 0