Package: dStruct Version: 1.15.0 Command: /Library/Frameworks/R.framework/Resources/bin/R CMD build --keep-empty-dirs --no-resave-data dStruct StartedAt: 2025-10-24 16:56:46 -0400 (Fri, 24 Oct 2025) EndedAt: 2025-10-24 16:57:09 -0400 (Fri, 24 Oct 2025) EllapsedTime: 22.9 seconds RetCode: 0 Status: OK PackageFile: dStruct_1.15.0.tar.gz PackageFileSize: 557.3 KiB