Package: cytoviewer Version: 1.9.0 Command: /home/biocbuild/R/R/bin/R CMD check --install=check:cytoviewer.install-out.txt --library=/home/biocbuild/R/R/site-library --no-vignettes --timings cytoviewer_1.9.0.tar.gz StartedAt: 2025-10-21 07:07:24 -0000 (Tue, 21 Oct 2025) EndedAt: 2025-10-21 07:15:04 -0000 (Tue, 21 Oct 2025) EllapsedTime: 460.3 seconds RetCode: 0 Status: OK CheckDir: cytoviewer.Rcheck Warnings: 0