Package: cytoviewer Version: 1.9.0 Command: /home/biocbuild/R/R/bin/R CMD build --keep-empty-dirs --no-resave-data cytoviewer StartedAt: 2025-10-20 23:08:43 -0000 (Mon, 20 Oct 2025) EndedAt: 2025-10-20 23:10:26 -0000 (Mon, 20 Oct 2025) EllapsedTime: 103.0 seconds RetCode: 0 Status: OK PackageFile: cytoviewer_1.9.0.tar.gz PackageFileSize: 9.326 MiB