Package: cytoviewer Version: 1.9.0 Command: /home/biocbuild/bbs-3.22-bioc/R/bin/R CMD check --install=check:cytoviewer.install-out.txt --library=/home/biocbuild/bbs-3.22-bioc/R/site-library --timings cytoviewer_1.9.0.tar.gz StartedAt: 2025-10-27 22:38:51 -0400 (Mon, 27 Oct 2025) EndedAt: 2025-10-27 22:45:38 -0400 (Mon, 27 Oct 2025) EllapsedTime: 406.3 seconds RetCode: 0 Status: OK CheckDir: cytoviewer.Rcheck Warnings: 0